BEGIN:VCALENDAR
VERSION:2.0
PRODID:-//Die Sprechwerker - ECPv6.8.3//NONSGML v1.0//EN
CALSCALE:GREGORIAN
METHOD:PUBLISH
X-ORIGINAL-URL:https://die-sprechwerker.de
X-WR-CALDESC:Veranstaltungen für Die Sprechwerker
REFRESH-INTERVAL;VALUE=DURATION:PT1H
X-Robots-Tag:noindex
X-PUBLISHED-TTL:PT1H
BEGIN:VTIMEZONE
TZID:Europe/Berlin
BEGIN:DAYLIGHT
TZOFFSETFROM:+0100
TZOFFSETTO:+0200
TZNAME:CEST
DTSTART:20200329T010000
END:DAYLIGHT
BEGIN:STANDARD
TZOFFSETFROM:+0200
TZOFFSETTO:+0100
TZNAME:CET
DTSTART:20201025T010000
END:STANDARD
END:VTIMEZONE
BEGIN:VEVENT
DTSTART;TZID=Europe/Berlin:20200912T100000
DTEND;TZID=Europe/Berlin:20200913T160000
DTSTAMP:20260424T143358
CREATED:20170501T085639Z
LAST-MODIFIED:20200829T154539Z
UID:13601-1599904800-1600012800@die-sprechwerker.de
SUMMARY:Erzählkompetenz 3
DESCRIPTION:„Nimm das was du hast\, verpacke es als Geschenk und gib es deinem Publikum.“ \nDas letzte Seminar zur Erzählkompetenz beinhaltet den Höhepunkt: einen ersten gestalteten Erzählabend. \nZur Seminarbeschreibung
URL:https://die-sprechwerker.de/termin/erzaehlkompetenz-3-4/
LOCATION:Otto-Falckenberg-Schule\, Stollbergstraße 7a\, München\, Bayern\, 80539\, Deutschland
CATEGORIES:Bühnenerzähler
ATTACH;FMTTYPE=image/jpeg:https://die-sprechwerker.de/wp-content/uploads/2016/08/Sprechwerker-74-e1472118201558.jpg
END:VEVENT
END:VCALENDAR