BEGIN:VCALENDAR
VERSION:2.0
PRODID:-//Die Sprechwerker - ECPv6.8.3//NONSGML v1.0//EN
CALSCALE:GREGORIAN
METHOD:PUBLISH
X-ORIGINAL-URL:https://die-sprechwerker.de
X-WR-CALDESC:Veranstaltungen für Die Sprechwerker
REFRESH-INTERVAL;VALUE=DURATION:PT1H
X-Robots-Tag:noindex
X-PUBLISHED-TTL:PT1H
BEGIN:VTIMEZONE
TZID:Europe/Berlin
BEGIN:DAYLIGHT
TZOFFSETFROM:+0100
TZOFFSETTO:+0200
TZNAME:CEST
DTSTART:20220327T010000
END:DAYLIGHT
BEGIN:STANDARD
TZOFFSETFROM:+0200
TZOFFSETTO:+0100
TZNAME:CET
DTSTART:20221030T010000
END:STANDARD
END:VTIMEZONE
BEGIN:VEVENT
DTSTART;TZID=Europe/Berlin:20220219T100000
DTEND;TZID=Europe/Berlin:20220220T160000
DTSTAMP:20260421T160434
CREATED:20180824T145151Z
LAST-MODIFIED:20260203T111356Z
UID:13948-1645264800-1645372800@die-sprechwerker.de
SUMMARY:Erzählprogramme gestalten - Präsenz
DESCRIPTION:Ein ganzes Wochenende beschäftigen wir uns mit der Rahmengestaltung von Geschichten und Märchen. Dazu haben wir natürlich auch die verschiedenen Zielgruppen im Blick. Dabei geht es in diesem Kurs sehr praktisch zu\, denn Sie werden viele Methoden und Ideen ausprobieren und mit nach Hause nehmen. \nZur Seminarbeschreibung
URL:https://die-sprechwerker.de/termin/erzaehlprogramme-gestalten-3/
LOCATION:Ort wird noch bekannt gegeben\, Ort wird noch bekannt gegeben\, München\, Deutschland
CATEGORIES:Seminare für beide Ausbildungsgänge
ATTACH;FMTTYPE=image/jpeg:https://die-sprechwerker.de/wp-content/uploads/2018/08/Lenja.Schultze-21_Barbara-e1643628167555.jpg
END:VEVENT
END:VCALENDAR