BEGIN:VCALENDAR
VERSION:2.0
PRODID:-//Die Sprechwerker - ECPv6.8.3//NONSGML v1.0//EN
CALSCALE:GREGORIAN
METHOD:PUBLISH
X-ORIGINAL-URL:https://die-sprechwerker.de
X-WR-CALDESC:Veranstaltungen für Die Sprechwerker
REFRESH-INTERVAL;VALUE=DURATION:PT1H
X-Robots-Tag:noindex
X-PUBLISHED-TTL:PT1H
BEGIN:VTIMEZONE
TZID:Europe/Berlin
BEGIN:DAYLIGHT
TZOFFSETFROM:+0100
TZOFFSETTO:+0200
TZNAME:CEST
DTSTART:20220327T010000
END:DAYLIGHT
BEGIN:STANDARD
TZOFFSETFROM:+0200
TZOFFSETTO:+0100
TZNAME:CET
DTSTART:20221030T010000
END:STANDARD
END:VTIMEZONE
BEGIN:VEVENT
DTSTART;TZID=Europe/Berlin:20220315T183000
DTEND;TZID=Europe/Berlin:20220323T183000
DTSTAMP:20260421T142938
CREATED:20220207T153220Z
LAST-MODIFIED:20220325T114655Z
UID:14808-1647369000-1648060200@die-sprechwerker.de
SUMMARY:Storytelling für Beruf und Marketing - Online
DESCRIPTION:Durch gekonntes Storytelling an den richtigen Punkten der Kommunikation kannst du deinen Kunden besser im Gedächtnis bleiben und mit einer geschickten Kern-Story kannst du dich eindeutig positionieren. Denn die richtigen Kunden kommen dann\, wenn sie klar erkennen\, was du anbietest. \nAuch bei Vorträgen\, Gesprächen oder Motivations-Meetings im Team\, können persönliche Geschichten dein Profil schärfen und dich in Erinnerung halten. Du wirst nahbar für die Zuhörer und wirst schnell mehr Aufmerksamkeit bekommen. \nWeitere Informationen
URL:https://die-sprechwerker.de/termin/storytelling-fuer-selbststaendige-online/
LOCATION:Zoom – Online Seminar
CATEGORIES:Aufbauseminare
ATTACH;FMTTYPE=image/jpeg:https://die-sprechwerker.de/wp-content/uploads/2022/02/©Lenja.Schultze-48-e1644246937743.jpg
END:VEVENT
END:VCALENDAR