BEGIN:VCALENDAR
VERSION:2.0
PRODID:-//Die Sprechwerker - ECPv6.8.3//NONSGML v1.0//EN
CALSCALE:GREGORIAN
METHOD:PUBLISH
X-ORIGINAL-URL:https://die-sprechwerker.de
X-WR-CALDESC:Veranstaltungen für Die Sprechwerker
REFRESH-INTERVAL;VALUE=DURATION:PT1H
X-Robots-Tag:noindex
X-PUBLISHED-TTL:PT1H
BEGIN:VTIMEZONE
TZID:Europe/Berlin
BEGIN:DAYLIGHT
TZOFFSETFROM:+0100
TZOFFSETTO:+0200
TZNAME:CEST
DTSTART:20210328T010000
END:DAYLIGHT
BEGIN:STANDARD
TZOFFSETFROM:+0200
TZOFFSETTO:+0100
TZNAME:CET
DTSTART:20211031T010000
END:STANDARD
END:VTIMEZONE
BEGIN:VEVENT
DTSTART;TZID=Europe/Berlin:20210526T190000
DTEND;TZID=Europe/Berlin:20210601T210000
DTSTAMP:20260422T051650
CREATED:20190121T224849Z
LAST-MODIFIED:20210610T141713Z
UID:14058-1622055600-1622581200@die-sprechwerker.de
SUMMARY:Online - Ausdrucksstarkes Erzählen mit allen Sinnen
DESCRIPTION:Ausdrucksstärke und Sinnlichkeit kann vieles bedeuten – riechen\, schmecken oder eine sanfte Berührung.  \nIn dem Seminar arbeiten wir auf mehreren Ebenen. Zum einen die Auswahl der Geschichten mit verschiedenen Sinnes- und sinnlichen Wahrnehmungen. Dabei geht es auch um die eigene Einschätzung was ich als Erzähler auf der Bühne bereit bin\, von mir zu zeigen. \nZur Seminarbeschreibung
URL:https://die-sprechwerker.de/termin/sinnlichkeit-in-der-erzaehlkunst/
LOCATION:Zoom – Online Seminar
CATEGORIES:Aufbauseminare
ATTACH;FMTTYPE=image/jpeg:https://die-sprechwerker.de/wp-content/uploads/2019/01/44568822_2116947084991686_5345352082822004736_n-e1548110789596.jpg
END:VEVENT
END:VCALENDAR